BEGIN:VCALENDAR
VERSION:2.0
PRODID:-//Demand Disruption - ECPv6.15.20//NONSGML v1.0//EN
CALSCALE:GREGORIAN
METHOD:PUBLISH
X-WR-CALNAME:Demand Disruption
X-ORIGINAL-URL:https://demanddisruption.org
X-WR-CALDESC:Events for Demand Disruption
REFRESH-INTERVAL;VALUE=DURATION:PT1H
X-Robots-Tag:noindex
X-PUBLISHED-TTL:PT1H
BEGIN:VTIMEZONE
TZID:America/Chicago
BEGIN:DAYLIGHT
TZOFFSETFROM:-0600
TZOFFSETTO:-0500
TZNAME:CDT
DTSTART:20240310T080000
END:DAYLIGHT
BEGIN:STANDARD
TZOFFSETFROM:-0500
TZOFFSETTO:-0600
TZNAME:CST
DTSTART:20241103T070000
END:STANDARD
BEGIN:DAYLIGHT
TZOFFSETFROM:-0600
TZOFFSETTO:-0500
TZNAME:CDT
DTSTART:20250309T080000
END:DAYLIGHT
BEGIN:STANDARD
TZOFFSETFROM:-0500
TZOFFSETTO:-0600
TZNAME:CST
DTSTART:20251102T070000
END:STANDARD
BEGIN:DAYLIGHT
TZOFFSETFROM:-0600
TZOFFSETTO:-0500
TZNAME:CDT
DTSTART:20260308T080000
END:DAYLIGHT
BEGIN:STANDARD
TZOFFSETFROM:-0500
TZOFFSETTO:-0600
TZNAME:CST
DTSTART:20261101T070000
END:STANDARD
END:VTIMEZONE
BEGIN:VTIMEZONE
TZID:UTC
BEGIN:STANDARD
TZOFFSETFROM:+0000
TZOFFSETTO:+0000
TZNAME:UTC
DTSTART:20240101T000000
END:STANDARD
END:VTIMEZONE
BEGIN:VTIMEZONE
TZID:America/New_York
BEGIN:DAYLIGHT
TZOFFSETFROM:-0500
TZOFFSETTO:-0400
TZNAME:EDT
DTSTART:20210314T070000
END:DAYLIGHT
BEGIN:STANDARD
TZOFFSETFROM:-0400
TZOFFSETTO:-0500
TZNAME:EST
DTSTART:20211107T060000
END:STANDARD
BEGIN:DAYLIGHT
TZOFFSETFROM:-0500
TZOFFSETTO:-0400
TZNAME:EDT
DTSTART:20220313T070000
END:DAYLIGHT
BEGIN:STANDARD
TZOFFSETFROM:-0400
TZOFFSETTO:-0500
TZNAME:EST
DTSTART:20221106T060000
END:STANDARD
BEGIN:DAYLIGHT
TZOFFSETFROM:-0500
TZOFFSETTO:-0400
TZNAME:EDT
DTSTART:20230312T070000
END:DAYLIGHT
BEGIN:STANDARD
TZOFFSETFROM:-0400
TZOFFSETTO:-0500
TZNAME:EST
DTSTART:20231105T060000
END:STANDARD
END:VTIMEZONE
BEGIN:VTIMEZONE
TZID:America/Chicago
BEGIN:DAYLIGHT
TZOFFSETFROM:-0600
TZOFFSETTO:-0500
TZNAME:CDT
DTSTART:20210314T080000
END:DAYLIGHT
BEGIN:STANDARD
TZOFFSETFROM:-0500
TZOFFSETTO:-0600
TZNAME:CST
DTSTART:20211107T070000
END:STANDARD
BEGIN:DAYLIGHT
TZOFFSETFROM:-0600
TZOFFSETTO:-0500
TZNAME:CDT
DTSTART:20220313T080000
END:DAYLIGHT
BEGIN:STANDARD
TZOFFSETFROM:-0500
TZOFFSETTO:-0600
TZNAME:CST
DTSTART:20221106T070000
END:STANDARD
BEGIN:DAYLIGHT
TZOFFSETFROM:-0600
TZOFFSETTO:-0500
TZNAME:CDT
DTSTART:20230312T080000
END:DAYLIGHT
BEGIN:STANDARD
TZOFFSETFROM:-0500
TZOFFSETTO:-0600
TZNAME:CST
DTSTART:20231105T070000
END:STANDARD
END:VTIMEZONE
BEGIN:VEVENT
DTSTART;TZID=America/Chicago:20250912T180000
DTEND;TZID=America/Chicago:20250912T203000
DTSTAMP:20260423T173205
CREATED:20250806T182541Z
LAST-MODIFIED:20250905T145136Z
UID:6591-1757700000-1757709000@demanddisruption.org
SUMMARY:Podcast Live Show Season Finale
DESCRIPTION:Join us for a live recording of the Season 1 Finale of The Demand Disruption Podcast. \n\n\n\n\n\n\n\n\n\n\n\nThis special event features a rare and powerful conversation between former sex buyers and survivor leaders\, two seemingly-opposing sides uniting to expose the hidden drivers and impacts of commercial sexual exploitation — and the healing needed for true restoration. Enlightened and empowered\, you’ll leave fueled with hope as these overcomers highlight the power of radical honesty giving way to inexhaustive love. Enjoy a light dinner as we close out the season with this unforgettable live experience.
URL:https://demanddisruption.org/event/podcast-live-show-season-finale/
LOCATION:The Goodman at Village Towers\, 9655 Katy Freeway\, Suite 3190\, Houston\, Texas\, 77024\, United States
CATEGORIES:Love People
ATTACH;FMTTYPE=image/webp:https://demanddisruption.org/wp-content/uploads/2025/08/The-Demand-Disruption-Podcast_20250812_173733_0000.webp
END:VEVENT
BEGIN:VEVENT
DTSTART;TZID=UTC:20250319T183000
DTEND;TZID=UTC:20250319T203000
DTSTAMP:20260423T173205
CREATED:20250228T151823Z
LAST-MODIFIED:20250228T174114Z
UID:6536-1742409000-1742416200@demanddisruption.org
SUMMARY:Buy. Popular. Demand. with Creating Gems
DESCRIPTION:with Creating Gems\n\n\n\n\n\n\n\nJoin Demand Disruption and Creating Gems for an eye-opening and thought-provoking conversation about the demand for human trafficking\, the impact of a porn-prevalent culture\, and the influence of OnlyFans. Learn how these issues intersect and what they mean for your community. \n\n\n\n\n\n\n\n\nMarch 19th\, 2025Crime Stoppers of Houston | 30001 Main Street\, Houston TX 770026:30 PM – 8:30 PMRecommended Ages 13+ \n\n\n\n\n\n\nVictoria Sinis is a passionate speaker and advocate dedicated to challenging cultural narratives and redefining self-worth in the digital age. With a background in marketing and startups\, she brings a unique perspective on the influence of social media\, the over-sexualization of culture\, and the hidden realities of the porn industry. \n\n\n\nPreviously a marketer and recruiter for an OnlyFans agency\, Victoria now shares her powerful story of transformation—exposing the harms of exploitation and championing the journey to reclaim identity and true empowerment. \n\n\n\nThrough her organization\, Creating Gems\, she equips nonprofits\, activists\, and counter-cultural voices with strategies to share impactful stories and cultivate communities that drive meaningful change. Her mission is to spark bold conversations\, challenge harmful norms\, and help build a culture that reclaims dignity and purpose in the digital age. \n\n\n\n\n\n\n\n\n\n\n\n\n\n\n\n\n\n\nRSVP Today!\n\n\n\n\n\n\n\n\n\n\n\n 
URL:https://demanddisruption.org/event/buy-popular-demand-with-creating-gems/
LOCATION:Amegy Tower\, 1717 W Loop S\, Houston\, TX\, 77027\, United States
CATEGORIES:Love People
ATTACH;FMTTYPE=image/png:https://demanddisruption.org/wp-content/uploads/2025/02/Buy.-Popular.-Demand.-IG-e1740754853209.png
ORGANIZER;CN="Demand Disruption":MAILTO:training@demanddisruption.org
END:VEVENT
BEGIN:VEVENT
DTSTART;TZID=America/New_York:20220624T190000
DTEND;TZID=America/New_York:20220624T213000
DTSTAMP:20260423T173205
CREATED:20220525T234939Z
LAST-MODIFIED:20220624T193303Z
UID:4371-1656097200-1656106200@demanddisruption.org
SUMMARY:Virtual Love People Training | June 2022
DESCRIPTION:Become a Defender. \nRSVP below to receive your view link.\nA Defender is someone that guides and supports individuals who are looking to make a change in their life – usually when struggling with an unwanted sexual compulsion. \n \nWant to learn how to Love\, Disrupt\, Defend? Have a heart for people who want to change for the better? \nJoin us for this FREE monthly Love People Training. The first 45 minutes are for everyone\, and the last 45 are optional: for people who really want to dig in. \n \nBy the end of the first section of this training\, you will be a Defender. If you stick around to the end\, you will be equipped to become a Defender that collaborates directly with the S.T.A.R. Program. \n \n7:00 PM CST
URL:https://demanddisruption.org/event/virtual-love-people-training-june-2022/
LOCATION:ZOOM\, United States
CATEGORIES:Love People,S.T.A.R. Program
ATTACH;FMTTYPE=image/jpeg:https://demanddisruption.org/wp-content/uploads/2022/04/Monthly-Love-People-Trainings.jpg
ORGANIZER;CN="Demand Disruption":MAILTO:training@demanddisruption.org
END:VEVENT
BEGIN:VEVENT
DTSTART;TZID=America/New_York:20220527T190000
DTEND;TZID=America/New_York:20220527T213000
DTSTAMP:20260423T173205
CREATED:20220419T203832Z
LAST-MODIFIED:20220509T032141Z
UID:4159-1653678000-1653687000@demanddisruption.org
SUMMARY:Virtual Love People Training | May 2022
DESCRIPTION:Become a Defender. \nRSVP below to receive your view link.\nA Defender is someone that guides and supports individuals who are looking to make a change in their life – usually when struggling with an unwanted sexual compulsion. \nWant to learn how to Love\, Disrupt\, Defend? Have a heart for people who want to change for the better?Join us for this FREE monthly Love People Training. The first 45 minutes are for everyone\, and the last 45 are optional: for people who really want to dig in. \nBy the end of the first section of this training\, you will be a Defender. If you stick around to the end\, you will be equipped to become a Defender that collaborates directly with the S.T.A.R. Program. \n7:00 PM CST
URL:https://demanddisruption.org/event/virtual-love-people-training-free-may-2022/
LOCATION:ZOOM\, United States
CATEGORIES:Love People,S.T.A.R. Program
ATTACH;FMTTYPE=image/jpeg:https://demanddisruption.org/wp-content/uploads/2022/04/Monthly-Love-People-Trainings.jpg
ORGANIZER;CN="Demand Disruption":MAILTO:training@demanddisruption.org
END:VEVENT
BEGIN:VEVENT
DTSTART;TZID=America/Chicago:20220314T190000
DTEND;TZID=America/Chicago:20220314T203000
DTSTAMP:20260423T173205
CREATED:20220310T022617Z
LAST-MODIFIED:20220310T045531Z
UID:4109-1647284400-1647289800@demanddisruption.org
SUMMARY:March 2022 Love People Training | Free
DESCRIPTION:Want to learn how to Love\, Disrupt\, Defend? Have a heart for people who want to change for the better?\nJoin us for our first monthly Love People Training. The first 45 minutes are for everyone\, and the last 45 are optional: for people who really want to dig in. \nBy the end of the first section of this training\, you will be a Defender. If you stick around to the end\, you will be equipped to become a Defender that collaborates directly with the S.T.A.R. Program. \nMarch 14th\, 2022 | 7:00 PM CST \nhttps://us02web.zoom.us/j/3038530725?pwd=RzhqL05rUkVtcFZKVko1ZkhhZ3ZnZz09
URL:https://demanddisruption.org/event/march-2022-love-people-training-public/
LOCATION:ZOOM\, United States
CATEGORIES:Love People,S.T.A.R. Program
ATTACH;FMTTYPE=image/jpeg:https://demanddisruption.org/wp-content/uploads/2022/03/1200x630_Love-People-Graphic-1.jpg
ORGANIZER;CN="Demand Disruption":MAILTO:training@demanddisruption.org
END:VEVENT
END:VCALENDAR