BEGIN:VCALENDAR
VERSION:2.0
PRODID:-//Demand Disruption - ECPv6.15.20//NONSGML v1.0//EN
CALSCALE:GREGORIAN
METHOD:PUBLISH
X-WR-CALNAME:Demand Disruption
X-ORIGINAL-URL:https://demanddisruption.org
X-WR-CALDESC:Events for Demand Disruption
REFRESH-INTERVAL;VALUE=DURATION:PT1H
X-Robots-Tag:noindex
X-PUBLISHED-TTL:PT1H
BEGIN:VTIMEZONE
TZID:America/Chicago
BEGIN:DAYLIGHT
TZOFFSETFROM:-0600
TZOFFSETTO:-0500
TZNAME:CDT
DTSTART:20200308T080000
END:DAYLIGHT
BEGIN:STANDARD
TZOFFSETFROM:-0500
TZOFFSETTO:-0600
TZNAME:CST
DTSTART:20201101T070000
END:STANDARD
BEGIN:DAYLIGHT
TZOFFSETFROM:-0600
TZOFFSETTO:-0500
TZNAME:CDT
DTSTART:20210314T080000
END:DAYLIGHT
BEGIN:STANDARD
TZOFFSETFROM:-0500
TZOFFSETTO:-0600
TZNAME:CST
DTSTART:20211107T070000
END:STANDARD
BEGIN:DAYLIGHT
TZOFFSETFROM:-0600
TZOFFSETTO:-0500
TZNAME:CDT
DTSTART:20220313T080000
END:DAYLIGHT
BEGIN:STANDARD
TZOFFSETFROM:-0500
TZOFFSETTO:-0600
TZNAME:CST
DTSTART:20221106T070000
END:STANDARD
BEGIN:DAYLIGHT
TZOFFSETFROM:-0600
TZOFFSETTO:-0500
TZNAME:CDT
DTSTART:20230312T080000
END:DAYLIGHT
BEGIN:STANDARD
TZOFFSETFROM:-0500
TZOFFSETTO:-0600
TZNAME:CST
DTSTART:20231105T070000
END:STANDARD
END:VTIMEZONE
BEGIN:VTIMEZONE
TZID:America/Chicago
BEGIN:DAYLIGHT
TZOFFSETFROM:-0600
TZOFFSETTO:-0500
TZNAME:CDT
DTSTART:20210314T080000
END:DAYLIGHT
BEGIN:STANDARD
TZOFFSETFROM:-0500
TZOFFSETTO:-0600
TZNAME:CST
DTSTART:20211107T070000
END:STANDARD
BEGIN:DAYLIGHT
TZOFFSETFROM:-0600
TZOFFSETTO:-0500
TZNAME:CDT
DTSTART:20220313T080000
END:DAYLIGHT
BEGIN:STANDARD
TZOFFSETFROM:-0500
TZOFFSETTO:-0600
TZNAME:CST
DTSTART:20221106T070000
END:STANDARD
BEGIN:DAYLIGHT
TZOFFSETFROM:-0600
TZOFFSETTO:-0500
TZNAME:CDT
DTSTART:20230312T080000
END:DAYLIGHT
BEGIN:STANDARD
TZOFFSETFROM:-0500
TZOFFSETTO:-0600
TZNAME:CST
DTSTART:20231105T070000
END:STANDARD
END:VTIMEZONE
BEGIN:VEVENT
DTSTART;TZID=America/Chicago:20220330T180000
DTEND;TZID=America/Chicago:20220330T203000
DTSTAMP:20260423T142419
CREATED:20220104T222215Z
LAST-MODIFIED:20220104T222215Z
UID:3986-1648663200-1648672200@demanddisruption.org
SUMMARY:S.T.A.R. Program (March 2022)
DESCRIPTION:The S.T.A.R. program is designed specifically for arrested sex-buyers. In exchange for selecting to participate in the S.T.A.R. program’s 2-hour orientation class\, the DA’s office in the city or county you were arrested in may seek reduced penalties on the prostitution charge(s) you are facing. ZOOM link will be sent to attendees after registration and payment. \nS.T.A.R program orientation class requirements: \n\nBuyer must attend the S.T.A.R. program orientation class with a class partner.\nYour class partner can be a family member or friend. They must be 18+ years old.\nThis is a virtual event and you and your partner will need to join the class on separate devices.  After registering you will receive an e-mail with instructions that are NECESSARY TO COMPLETE TO BE ADMITTED to the class.\nYou must complete your class payment to be officially registered for the class.\nOnly one ticket is required to be purchased for both you and your class partner.\n\nFor more information about the partner requirement visit demanddisruption.org/star-program.
URL:https://demanddisruption.org/event/s-t-a-r-program-march-2022/
LOCATION:ZOOM\, United States
CATEGORIES:S.T.A.R. Program
ATTACH;FMTTYPE=image/png:https://demanddisruption.org/wp-content/uploads/2021/03/Untitled-design-1.png
ORGANIZER;CN="Mike Steel":MAILTO:star@demanddisruption.org
END:VEVENT
BEGIN:VEVENT
DTSTART;TZID=America/Chicago:20220314T190000
DTEND;TZID=America/Chicago:20220314T203000
DTSTAMP:20260423T142419
CREATED:20220310T022617Z
LAST-MODIFIED:20220310T045531Z
UID:4109-1647284400-1647289800@demanddisruption.org
SUMMARY:March 2022 Love People Training | Free
DESCRIPTION:Want to learn how to Love\, Disrupt\, Defend? Have a heart for people who want to change for the better?\nJoin us for our first monthly Love People Training. The first 45 minutes are for everyone\, and the last 45 are optional: for people who really want to dig in. \nBy the end of the first section of this training\, you will be a Defender. If you stick around to the end\, you will be equipped to become a Defender that collaborates directly with the S.T.A.R. Program. \nMarch 14th\, 2022 | 7:00 PM CST \nhttps://us02web.zoom.us/j/3038530725?pwd=RzhqL05rUkVtcFZKVko1ZkhhZ3ZnZz09
URL:https://demanddisruption.org/event/march-2022-love-people-training-public/
LOCATION:ZOOM\, United States
CATEGORIES:Love People,S.T.A.R. Program
ATTACH;FMTTYPE=image/jpeg:https://demanddisruption.org/wp-content/uploads/2022/03/1200x630_Love-People-Graphic-1.jpg
ORGANIZER;CN="Demand Disruption":MAILTO:training@demanddisruption.org
END:VEVENT
BEGIN:VEVENT
DTSTART;TZID=America/Chicago:20220222T180000
DTEND;TZID=America/Chicago:20220222T203000
DTSTAMP:20260423T142419
CREATED:20220104T221438Z
LAST-MODIFIED:20220104T221822Z
UID:3982-1645552800-1645561800@demanddisruption.org
SUMMARY:S.T.A.R. Program (February 2022)
DESCRIPTION:The S.T.A.R. program is designed specifically for arrested sex-buyers. In exchange for selecting to participate in the S.T.A.R. program’s 2-hour orientation class\, the DA’s office in the city or county you were arrested in may seek reduced penalties on the prostitution charge(s) you are facing. ZOOM link will be sent to attendees after registration and payment. \nS.T.A.R program orientation class requirements: \n\nBuyer must attend the S.T.A.R. program orientation class with a class partner.\nYour class partner can be a family member or friend. They must be 18+ years old.\nThis is a virtual event and you and your partner will need to join the class on separate devices.  After registering you will receive an e-mail with instructions that are NECESSARY TO COMPLETE TO BE ADMITTED to the class.\nYou must complete your class payment to be officially registered for the class.\nOnly one ticket is required to be purchased for both you and your class partner.\n\nFor more information about the partner requirement visit demanddisruption.org/star-program.
URL:https://demanddisruption.org/event/s-t-a-r-program-february-2022/
LOCATION:ZOOM\, United States
CATEGORIES:S.T.A.R. Program
ATTACH;FMTTYPE=image/png:https://demanddisruption.org/wp-content/uploads/2021/03/Untitled-design-1.png
ORGANIZER;CN="Mike Steel":MAILTO:star@demanddisruption.org
END:VEVENT
BEGIN:VEVENT
DTSTART;TZID=America/Chicago:20220125T180000
DTEND;TZID=America/Chicago:20220125T203000
DTSTAMP:20260423T142419
CREATED:20220104T221412Z
LAST-MODIFIED:20220104T221412Z
UID:3978-1643133600-1643142600@demanddisruption.org
SUMMARY:S.T.A.R. Program (January 2022)
DESCRIPTION:The S.T.A.R. program is designed specifically for arrested sex-buyers. In exchange for selecting to participate in the S.T.A.R. program’s 2-hour orientation class\, the DA’s office in the city or county you were arrested in may seek reduced penalties on the prostitution charge(s) you are facing. ZOOM link will be sent to attendees after registration and payment. \nS.T.A.R program orientation class requirements: \n\nBuyer must attend the S.T.A.R. program orientation class with a class partner.\nYour class partner can be a family member or friend. They must be 18+ years old.\nThis is a virtual event and you and your partner will need to join the class on separate devices.  After registering you will receive an e-mail with instructions that are NECESSARY TO COMPLETE TO BE ADMITTED to the class.\nYou must complete your class payment to be officially registered for the class.\nOnly one ticket is required to be purchased for both you and your class partner.\n\nFor more information about the partner requirement visit demanddisruption.org/star-program.
URL:https://demanddisruption.org/event/s-t-a-r-program-january-2022/
LOCATION:ZOOM\, United States
CATEGORIES:S.T.A.R. Program
ATTACH;FMTTYPE=image/png:https://demanddisruption.org/wp-content/uploads/2021/03/Untitled-design-1.png
ORGANIZER;CN="Mike Steel":MAILTO:star@demanddisruption.org
END:VEVENT
BEGIN:VEVENT
DTSTART;TZID=America/Chicago:20211228T180000
DTEND;TZID=America/Chicago:20211228T203000
DTSTAMP:20260423T142419
CREATED:20210521T022035Z
LAST-MODIFIED:20210921T213238Z
UID:3890-1640714400-1640723400@demanddisruption.org
SUMMARY:S.T.A.R. Program (December 2021)
DESCRIPTION:The S.T.A.R. program is designed specifically for arrested sex-buyers. In exchange for selecting to participate in the S.T.A.R. program’s 2-hour orientation class\, the DA’s office in the city or county you were arrested in may seek reduced penalties on the prostitution charge(s) you are facing. ZOOM link will be sent to attendees after registration and payment. \nS.T.A.R program orientation class requirements: \n\nBuyer must attend the S.T.A.R. program orientation class with a class partner.\nYour class partner can be a family member or friend. They must be 18+ years old.\nThis is a virtual event and you and your partner will need to join the class on separate devices.  After registering you will receive an e-mail with instructions that are NECESSARY TO COMPLETE TO BE ADMITTED to the class.\nYou must complete your class payment to be officially registered for the class.\nOnly one ticket is required to be purchased for both you and your class partner.\n\nFor more information about the partner requirement visit demanddisruption.org/star-program.
URL:https://demanddisruption.org/event/s-t-a-r-program-december-2021/
LOCATION:ZOOM\, United States
CATEGORIES:S.T.A.R. Program
ATTACH;FMTTYPE=image/png:https://demanddisruption.org/wp-content/uploads/2021/03/Untitled-design-1.png
ORGANIZER;CN="Mike Steel":MAILTO:star@demanddisruption.org
END:VEVENT
BEGIN:VEVENT
DTSTART;TZID=America/Chicago:20211130T180000
DTEND;TZID=America/Chicago:20211130T203000
DTSTAMP:20260423T142419
CREATED:20210521T021914Z
LAST-MODIFIED:20210521T021914Z
UID:3886-1638295200-1638304200@demanddisruption.org
SUMMARY:S.T.A.R. Program (November 2021)
DESCRIPTION:The S.T.A.R. program is designed specifically for arrested sex-buyers. In exchange for selecting to participate in the S.T.A.R. program’s 2-hour orientation class\, the DA’s office in the city or county you were arrested in may seek reduced penalties on the prostitution charge(s) you are facing. ZOOM link will be sent to attendees after registration and payment. \nS.T.A.R program orientation class requirements: \n\nBuyer must attend the S.T.A.R. program orientation class with a class partner.\nYour class partner can be a family member or friend. They must be 18+ years old.\nThis is a virtual event and you and your partner will need to join the class on separate devices.  After registering you will receive an e-mail with instructions that are NECESSARY TO COMPLETE TO BE ADMITTED to the class.\nYou must complete your class payment to be officially registered for the class.\nOnly one ticket is required to be purchased for both you and your class partner.\n\nFor more information about the partner requirement visit demanddisruption.org/star-program.
URL:https://demanddisruption.org/event/s-t-a-r-program-november-2021/
LOCATION:ZOOM\, United States
CATEGORIES:S.T.A.R. Program
ATTACH;FMTTYPE=image/png:https://demanddisruption.org/wp-content/uploads/2021/03/Untitled-design-1.png
ORGANIZER;CN="Mike Steel":MAILTO:star@demanddisruption.org
END:VEVENT
BEGIN:VEVENT
DTSTART;TZID=America/Chicago:20211026T180000
DTEND;TZID=America/Chicago:20211026T203000
DTSTAMP:20260423T142419
CREATED:20210521T021749Z
LAST-MODIFIED:20210521T021749Z
UID:3882-1635271200-1635280200@demanddisruption.org
SUMMARY:S.T.A.R. Program (October 2021)
DESCRIPTION:The S.T.A.R. program is designed specifically for arrested sex-buyers. In exchange for selecting to participate in the S.T.A.R. program’s 2-hour orientation class\, the DA’s office in the city or county you were arrested in may seek reduced penalties on the prostitution charge(s) you are facing. ZOOM link will be sent to attendees after registration and payment. \nS.T.A.R program orientation class requirements: \n\nBuyer must attend the S.T.A.R. program orientation class with a class partner.\nYour class partner can be a family member or friend. They must be 18+ years old.\nThis is a virtual event and you and your partner will need to join the class on separate devices.  After registering you will receive an e-mail with instructions that are NECESSARY TO COMPLETE TO BE ADMITTED to the class.\nYou must complete your class payment to be officially registered for the class.\nOnly one ticket is required to be purchased for both you and your class partner.\n\nFor more information about the partner requirement visit demanddisruption.org/star-program.
URL:https://demanddisruption.org/event/s-t-a-r-program-october-2021/
LOCATION:ZOOM\, United States
CATEGORIES:S.T.A.R. Program
ATTACH;FMTTYPE=image/png:https://demanddisruption.org/wp-content/uploads/2021/03/Untitled-design-1.png
ORGANIZER;CN="Mike Steel":MAILTO:star@demanddisruption.org
END:VEVENT
BEGIN:VEVENT
DTSTART;TZID=America/Chicago:20210928T180000
DTEND;TZID=America/Chicago:20210928T203000
DTSTAMP:20260423T142419
CREATED:20210521T021635Z
LAST-MODIFIED:20210921T204154Z
UID:3878-1632852000-1632861000@demanddisruption.org
SUMMARY:S.T.A.R. Program (September 2021)
DESCRIPTION:The S.T.A.R. program is designed specifically for arrested sex-buyers. In exchange for selecting to participate in the S.T.A.R. program’s 2-hour orientation class\, the DA’s office in the city or county you were arrested in may seek reduced penalties on the prostitution charge(s) you are facing. ZOOM link will be sent to attendees after registration and payment. \nS.T.A.R program orientation class requirements: \n\nBuyer must attend the S.T.A.R. program orientation class with a class partner.\nYour class partner can be a family member or friend. They must be 18+ years old.\nThis is a virtual event and you and your partner will need to join the class on separate devices.  After registering you will receive an e-mail with instructions that are NECESSARY TO COMPLETE TO BE ADMITTED to the class.\nYou must complete your class payment to be officially registered for the class.\nOnly one ticket is required to be purchased for both you and your class partner.\n\nFor more information about the partner requirement visit demanddisruption.org/star-program.
URL:https://demanddisruption.org/event/s-t-a-r-program-september-2021/
LOCATION:ZOOM\, United States
CATEGORIES:S.T.A.R. Program
ATTACH;FMTTYPE=image/png:https://demanddisruption.org/wp-content/uploads/2021/03/Untitled-design-1.png
ORGANIZER;CN="Mike Steel":MAILTO:star@demanddisruption.org
END:VEVENT
BEGIN:VEVENT
DTSTART;TZID=America/Chicago:20210831T180000
DTEND;TZID=America/Chicago:20210831T203000
DTSTAMP:20260423T142419
CREATED:20210521T021325Z
LAST-MODIFIED:20210521T021444Z
UID:3874-1630432800-1630441800@demanddisruption.org
SUMMARY:S.T.A.R. Program (August 2021)
DESCRIPTION:The S.T.A.R. program is designed specifically for arrested sex-buyers. In exchange for selecting to participate in the S.T.A.R. program’s 2-hour orientation class\, the DA’s office in the city or county you were arrested in may seek reduced penalties on the prostitution charge(s) you are facing. ZOOM link will be sent to attendees after registration and payment. \nS.T.A.R program orientation class requirements: \n\nBuyer must attend the S.T.A.R. program orientation class with a class partner.\nYour class partner can be a family member or friend. They must be 18+ years old.\nThis is a virtual event and you and your partner will need to join the class on separate devices.  After registering you will receive an e-mail with instructions that are NECESSARY TO COMPLETE TO BE ADMITTED to the class.\nYou must complete your class payment to be officially registered for the class.\nOnly one ticket is required to be purchased for both you and your class partner.\n\nFor more information about the partner requirement visit demanddisruption.org/star-program.
URL:https://demanddisruption.org/event/s-t-a-r-program-august-2021/
LOCATION:ZOOM\, United States
CATEGORIES:S.T.A.R. Program
ATTACH;FMTTYPE=image/png:https://demanddisruption.org/wp-content/uploads/2021/03/Untitled-design-1.png
ORGANIZER;CN="Mike Steel":MAILTO:star@demanddisruption.org
END:VEVENT
BEGIN:VEVENT
DTSTART;TZID=America/Chicago:20210727T180000
DTEND;TZID=America/Chicago:20210727T203000
DTSTAMP:20260423T142419
CREATED:20210521T021131Z
LAST-MODIFIED:20210521T021249Z
UID:3869-1627408800-1627417800@demanddisruption.org
SUMMARY:S.T.A.R. Program (July 2021)
DESCRIPTION:The S.T.A.R. program is designed specifically for arrested sex-buyers. In exchange for selecting to participate in the S.T.A.R. program’s 2-hour orientation class\, the DA’s office in the city or county you were arrested in may seek reduced penalties on the prostitution charge(s) you are facing. ZOOM link will be sent to attendees after registration and payment. \nS.T.A.R program orientation class requirements: \n\nBuyer must attend the S.T.A.R. program orientation class with a class partner.\nYour class partner can be a family member or friend. They must be 18+ years old.\nThis is a virtual event and you and your partner will need to join the class on separate devices.  After registering you will receive an e-mail with instructions that are NECESSARY TO COMPLETE TO BE ADMITTED to the class.\nYou must complete your class payment to be officially registered for the class.\nOnly one ticket is required to be purchased for both you and your class partner.\n\nFor more information about the partner requirement visit demanddisruption.org/star-program.
URL:https://demanddisruption.org/event/s-t-a-r-program-july-2021/
LOCATION:ZOOM\, United States
CATEGORIES:S.T.A.R. Program
ATTACH;FMTTYPE=image/png:https://demanddisruption.org/wp-content/uploads/2021/03/Untitled-design-1.png
ORGANIZER;CN="Mike Steel":MAILTO:star@demanddisruption.org
END:VEVENT
BEGIN:VEVENT
DTSTART;TZID=America/Chicago:20210629T180000
DTEND;TZID=America/Chicago:20210629T203000
DTSTAMP:20260423T142419
CREATED:20210521T014836Z
LAST-MODIFIED:20210521T021114Z
UID:3865-1624989600-1624998600@demanddisruption.org
SUMMARY:S.T.A.R. Program (June 2021)
DESCRIPTION:The S.T.A.R. program is designed specifically for arrested sex-buyers. In exchange for selecting to participate in the S.T.A.R. program’s 2-hour orientation class\, the DA’s office in the city or county you were arrested in may seek reduced penalties on the prostitution charge(s) you are facing. ZOOM link will be sent to attendees after registration and payment. \nS.T.A.R program orientation class requirements: \n\nBuyer must attend the S.T.A.R. program orientation class with a class partner.\nYour class partner can be a family member or friend. They must be 18+ years old.\nThis is a virtual event and you and your partner will need to join the class on separate devices.  After registering you will receive an e-mail with instructions that are NECESSARY TO COMPLETE TO BE ADMITTED to the class.\nYou must complete your class payment to be officially registered for the class.\nOnly one ticket is required to be purchased for both you and your class partner.\n\nFor more information about the partner requirement visit demanddisruption.org/star-program.
URL:https://demanddisruption.org/event/s-t-a-r-program-june-2021/
LOCATION:ZOOM\, United States
CATEGORIES:S.T.A.R. Program
ATTACH;FMTTYPE=image/png:https://demanddisruption.org/wp-content/uploads/2021/03/Untitled-design-1.png
ORGANIZER;CN="Mike Steel":MAILTO:star@demanddisruption.org
END:VEVENT
BEGIN:VEVENT
DTSTART;TZID=America/Chicago:20210525T180000
DTEND;TZID=America/Chicago:20210525T203000
DTSTAMP:20260423T142419
CREATED:20210521T014228Z
LAST-MODIFIED:20210521T014720Z
UID:3861-1621965600-1621974600@demanddisruption.org
SUMMARY:S.T.A.R. Program (May 2021)
DESCRIPTION:The S.T.A.R. program is designed specifically for arrested sex-buyers. In exchange for selecting to participate in the S.T.A.R. program’s 2-hour orientation class\, the DA’s office in the city or county you were arrested in may seek reduced penalties on the prostitution charge(s) you are facing. ZOOM link will be sent to attendees after registration and payment. \nS.T.A.R program orientation class requirements: \n\nBuyer must attend the S.T.A.R. program orientation class with a class partner.\nYour class partner can be a family member or friend. They must be 18+ years old.\nThis is a virtual event and you and your partner will need to join the class on separate devices.  After registering you will receive an e-mail with instructions that are NECESSARY TO COMPLETE TO BE ADMITTED to the class.\nYou must complete your class payment to be officially registered for the class.\nOnly one ticket is required to be purchased for both you and your class partner.\n\nFor more information about the partner requirement visit demanddisruption.org/star-program.
URL:https://demanddisruption.org/event/s-t-a-r-program-may-2021/
LOCATION:ZOOM\, United States
CATEGORIES:S.T.A.R. Program
ATTACH;FMTTYPE=image/png:https://demanddisruption.org/wp-content/uploads/2021/03/Untitled-design-1.png
ORGANIZER;CN="Mike Steel":MAILTO:star@demanddisruption.org
END:VEVENT
BEGIN:VEVENT
DTSTART;TZID=America/Chicago:20210427T180000
DTEND;TZID=America/Chicago:20210427T203000
DTSTAMP:20260423T142419
CREATED:20210408T023821Z
LAST-MODIFIED:20210408T023931Z
UID:3435-1619546400-1619555400@demanddisruption.org
SUMMARY:S.T.A.R. Program (April 2021)
DESCRIPTION:The S.T.A.R. program is designed specifically for arrested sex-buyers. In exchange for selecting to participate in the S.T.A.R. program’s 2-hour orientation class\, the DA’s office in the city or county you were arrested in may seek reduced penalties on the prostitution charge(s) you are facing. ZOOM link will be sent to attendees after registration and payment. \nS.T.A.R program orientation class requirements: \n\nBuyer must attend the S.T.A.R. program orientation class with a class partner.\nYour class partner can be a family member or friend. They must be 18+ years old.\nThis is a virtual event and you and your partner will need to join the class on separate devices.  After registering you will receive an e-mail with instructions that are NECESSARY TO COMPLETE TO BE ADMITTED to the class.\nYou must complete your class payment to be officially registered for the class.\nOnly one ticket is required to be purchased for both you and your class partner.\n\nFor more information about the partner requirement visit demanddisruption.org/star-program.
URL:https://demanddisruption.org/event/s-t-a-r-program-april-2021/
LOCATION:ZOOM\, United States
CATEGORIES:S.T.A.R. Program
ATTACH;FMTTYPE=image/png:https://demanddisruption.org/wp-content/uploads/2021/03/Untitled-design-1.png
ORGANIZER;CN="Mike Steel":MAILTO:star@demanddisruption.org
END:VEVENT
BEGIN:VEVENT
DTSTART;TZID=America/Chicago:20210330T180000
DTEND;TZID=America/Chicago:20210330T203000
DTSTAMP:20260423T142419
CREATED:20210330T090414Z
LAST-MODIFIED:20210330T195858Z
UID:3384-1617127200-1617136200@demanddisruption.org
SUMMARY:S.T.A.R. Program (March 2021)
DESCRIPTION:The S.T.A.R. program is designed specifically for arrested sex-buyers. In exchange for selecting to participate in the S.T.A.R. program’s 2-hour orientation class\, the DA’s office in the city or county you were arrested in may seek reduced penalties on the prostitution charge(s) you are facing. ZOOM link will be sent to attendees after registration and payment. \nS.T.A.R program orientation class requirements: \n\nBuyer must attend the S.T.A.R. program orientation class with a class partner.\nYour class partner can be a family member or friend. They must be 18+ years old.\nThis is a virtual event and you and your partner will need to join the class on separate devices.  After registering you will receive an e-mail with instructions that are NECESSARY TO COMPLETE TO BE ADMITTED to the class.\nYou must complete your class payment to be officially registered for the class.\nOnly one ticket is required to be purchased for both you and your class partner.\n\nFor more information about the partner requirement visit demanddisruption.org/star-program.
URL:https://demanddisruption.org/event/s-t-a-r-program-march_2021/
LOCATION:ZOOM\, United States
CATEGORIES:S.T.A.R. Program
ATTACH;FMTTYPE=image/png:https://demanddisruption.org/wp-content/uploads/2021/03/Untitled-design-1.png
ORGANIZER;CN="Mike Steel":MAILTO:star@demanddisruption.org
END:VEVENT
END:VCALENDAR